BEGIN:VCALENDAR
PRODID:-//Microsoft Corporation//Outlook MIMEDIR//EN
VERSION:2.0
METHOD:PUBLISH
BEGIN:VEVENT
DTSTART:20260421T170000
DTEND:20260421T180000
DESCRIPTION:
LOCATION:2nd Floor Conference Room
SUMMARY:Ordinance Review Committee
CATEGORIES:MEETING
END:VEVENT
END:VCALENDAR
